BEGIN:VCALENDAR
VERSION:2.0
PRODID:-//My Calendar//http://www.joedolson.com//v3.3.12//EN
METHOD:PUBLISH
CALSCALE:GREGORIAN
X-WR-CALNAME:Agnieszka Janasiak - Fizjoterapia Holistyczna 
X-PUBLISHED-TTL:PT24H
REFRESH-INTERVAL;VALUE=DURATION:PT24H
X-WR-CALDESC:Events from Agnieszka Janasiak - Fizjoterapia Holistyczna 
BEGIN:VEVENT
UID:2818-12
LOCATION:
SUMMARY:Run KIDS
DTSTAMP:20210407T160000Z
ORGANIZER;CN=Agnieszka Janasiak:MAILTO:agnieszka.janas@wp.pl
DTSTART;TZID=Europe/Warsaw:20210407T160000Z
DTEND;TZID=Europe/Warsaw:20210407T170000Z
RRULE:FREQ=WEEKLY;COUNT=10

URL;VALUE=URI:https://fb.me/e/3yLiDzmCp
DESCRIPTION:Zajęcia dla dzieci w każdym wieku. Chodzi o dobrą zabawę , gdzie bieg jest naturalną formą ruchu. To zajęcia ogólnorozwojowe, gdzie liczy się zaszczepienie w młodym pokoleniu aktywności fizycznej.Każda środa start godz 18:00 Park Aktywności Fizycznej ul. Druskiennicka/Strzeszyńska  .                             Zapisy przez formularz kontaktowy. Aktualności będą umieszczane na Fb . Tu link do wydarzeniahttps://fb.me/e/3yLiDzmCpW miarę rozwoju zajęć możliwy podział na grupy wiekowe.&nbsp; https://fb.me/e/3yLiDzmCp
CATEGORIES:BiegBieg
END:VEVENT
BEGIN:VEVENT
UID:2807-11
LOCATION:
SUMMARY:ZDROWYM KROKIEM
DTSTAMP:20210408T160000Z
ORGANIZER;CN=Agnieszka Janasiak:MAILTO:agnieszka.janas@wp.pl
DTSTART;TZID=Europe/Warsaw:20210408T160000Z
DTEND;TZID=Europe/Warsaw:20210408T180000Z
RRULE:FREQ=WEEKLY;COUNT=10

URL;VALUE=URI:https://fb.me/e/3yLiDzmCp
DESCRIPTION:Zapraszam na cykl zajęć w plenerze. Park Aktywności Fizycznej ul. Druskiennicka przy Spar i Rossmann. Pierwsza godzina to trening funkcjonalno-biegowy. Niezależnie czy dopiero zaczynasz czy jesteś wytrawnym biegaczem te zajęcia są dla Ciebie. Robisz wszystko na miarę swoich możliwości .Druga godzina to Joga Medyczna - autorska odmiana Jogi oparta o wiedzę fizjoterapeutyczną i osobiste doświadczenia. ,,Stabilność nad mobilność to moja dewiza. Zajęcia dla wszystkich (też dla osób niebiegających) dla młodszych i starszych. Wiek nie ma znaczenia.Możesz wziąć udział w całym bloku zajęć lub wybrać te odpowiednie. Koszt to opłata skarbonkowa. Wrzucasz do mojej skarbonki marzeń tyle ile uznasz za stosowne. Moje marzenie: Powrócić na szczyt w zdrowiu !!!!Zajęcia odbywają się przy minimum dwóch osobach. Tu link do wydarzenia na Fb , gdzie będę prezentować aktualności.Zajęcia odbywają się od 6.04.2021 każdy wtorek i czwartek godz 18-2018:00 Trening funkcjonalno-biegowy19:00 Joga medyczna https://fb.me/e/3yLiDzmCp
CATEGORIES:BiegBieg
END:VEVENT
BEGIN:VEVENT
UID:2787-10
LOCATION:
SUMMARY:ZDROWYM KROKIEM
DTSTAMP:20210406T160000Z
ORGANIZER;CN=Agnieszka Janasiak:MAILTO:agnieszka.janas@wp.pl
DTSTART;TZID=Europe/Warsaw:20210406T160000Z
DTEND;TZID=Europe/Warsaw:20210406T180000Z
RRULE:FREQ=WEEKLY;COUNT=10

URL;VALUE=URI:http://agarun.pl/kalendarz-zajec/
DESCRIPTION:Zapraszam na cykl zajęć w plenerze. Park Aktywności Fizycznej ul. Druskiennicka przy Spar i Rossmann. Pierwsza godzina to trening funkcjonalno-biegowy. Niezależnie czy dopiero zaczynasz czy jesteś wytrawnym biegaczem te zajęcia są dla Ciebie. Robisz wszystko na miarę swoich możliwości .Druga godzina to Joga Medyczna - autorska odmiana Jogi oparta o wiedzę fizjoterapeutyczną i osobiste doświadczenia. ,,Stabilność nad mobilność to moja dewiza. Zajęcia dla wszystkich (też dla osób niebiegających) dla młodszych i starszych. Wiek nie ma znaczenia.Możesz wziąć udział w całym bloku zajęć lub wybrać te odpowiednie. Koszt to opłata skarbonkowa. Wrzucasz do mojej skarbonki marzeń tyle ile uznasz za stosowne. Moje marzenie: Powrócić na szczyt w zdrowiu !!!!Zajęcia odbywają się przy minimum dwóch osobach. Tu link do wydarzenia na Fb , gdzie będę prezentować aktualności.Zajęcia odbywają się od 6.04.2021 każdy wtorek i czwartek godz 18-2018:00 Trening funkcjonalno-biegowy19:00 Joga medyczna 
CATEGORIES:BiegBieg
END:VEVENT
END:VCALENDAR